BEGIN:VCALENDAR
VERSION:2.0
PRODID:-//Kulturwerkstadt Sulz - ECPv6.15.20//NONSGML v1.0//EN
CALSCALE:GREGORIAN
METHOD:PUBLISH
X-WR-CALNAME:Kulturwerkstadt Sulz
X-ORIGINAL-URL:https://kulturwerk-stadt.ch
X-WR-CALDESC:Veranstaltungen für Kulturwerkstadt Sulz
REFRESH-INTERVAL;VALUE=DURATION:PT1H
X-Robots-Tag:noindex
X-PUBLISHED-TTL:PT1H
BEGIN:VTIMEZONE
TZID:UTC
BEGIN:STANDARD
TZOFFSETFROM:+0000
TZOFFSETTO:+0000
TZNAME:UTC
DTSTART:20250101T000000
END:STANDARD
END:VTIMEZONE
BEGIN:VEVENT
DTSTART;TZID=UTC:20260507T073000
DTEND;TZID=UTC:20260507T110000
DTSTAMP:20260424T084514
CREATED:20260109T085017Z
LAST-MODIFIED:20260109T085017Z
UID:1006-1778139000-1778151600@kulturwerk-stadt.ch
SUMMARY:Frisches Holzofenbrot
DESCRIPTION:
URL:https://kulturwerk-stadt.ch/index.php/event/frisches-holzofenbrot-18/
END:VEVENT
BEGIN:VEVENT
DTSTART;TZID=UTC:20260517T090000
DTEND;TZID=UTC:20260517T130000
DTSTAMP:20260424T084514
CREATED:20260109T085114Z
LAST-MODIFIED:20260109T085114Z
UID:1008-1779008400-1779022800@kulturwerk-stadt.ch
SUMMARY:Internationaler Museumstag
DESCRIPTION:
URL:https://kulturwerk-stadt.ch/index.php/event/internationaler-museumstag-3/
END:VEVENT
BEGIN:VEVENT
DTSTART;TZID=UTC:20260611T073000
DTEND;TZID=UTC:20260611T110000
DTSTAMP:20260424T084514
CREATED:20260109T085158Z
LAST-MODIFIED:20260109T085158Z
UID:1010-1781163000-1781175600@kulturwerk-stadt.ch
SUMMARY:Frisches Holzofenbrot
DESCRIPTION:
URL:https://kulturwerk-stadt.ch/index.php/event/frisches-holzofenbrot-19/
END:VEVENT
BEGIN:VEVENT
DTSTART;TZID=UTC:20260702T073000
DTEND;TZID=UTC:20260702T110000
DTSTAMP:20260424T084514
CREATED:20260109T085236Z
LAST-MODIFIED:20260109T085236Z
UID:1012-1782977400-1782990000@kulturwerk-stadt.ch
SUMMARY:Frisches Holzofenbrot
DESCRIPTION:
URL:https://kulturwerk-stadt.ch/index.php/event/frisches-holzofenbrot-20/
END:VEVENT
BEGIN:VEVENT
DTSTART;TZID=UTC:20260822T080000
DTEND;TZID=UTC:20260822T170000
DTSTAMP:20260424T084514
CREATED:20260109T085500Z
LAST-MODIFIED:20260109T085500Z
UID:1016-1787385600-1787418000@kulturwerk-stadt.ch
SUMMARY:Genussmeile Klosters / fahrbare Nagelschmiede
DESCRIPTION:
URL:https://kulturwerk-stadt.ch/index.php/event/genussmeile-klosters-fahrbare-nagelschmiede/
END:VEVENT
BEGIN:VEVENT
DTSTART;TZID=UTC:20260903T073000
DTEND;TZID=UTC:20260903T110000
DTSTAMP:20260424T084514
CREATED:20260109T085538Z
LAST-MODIFIED:20260109T085538Z
UID:1018-1788420600-1788433200@kulturwerk-stadt.ch
SUMMARY:Frisches Holzofenbrot
DESCRIPTION:
URL:https://kulturwerk-stadt.ch/index.php/event/frisches-holzofenbrot-21/
END:VEVENT
BEGIN:VEVENT
DTSTART;TZID=UTC:20260905T180000
DTEND;TZID=UTC:20260905T230000
DTSTAMP:20260424T084514
CREATED:20260109T085745Z
LAST-MODIFIED:20260109T085745Z
UID:1020-1788631200-1788649200@kulturwerk-stadt.ch
SUMMARY:Grenzüberschreitende Kulturnacht Laufenburg
DESCRIPTION:
URL:https://kulturwerk-stadt.ch/index.php/event/grenzueberschreitende-kulturnacht-laufenburg-3/
END:VEVENT
BEGIN:VEVENT
DTSTART;TZID=UTC:20261001T073000
DTEND;TZID=UTC:20261001T110000
DTSTAMP:20260424T084514
CREATED:20260109T085825Z
LAST-MODIFIED:20260109T085825Z
UID:1022-1790839800-1790852400@kulturwerk-stadt.ch
SUMMARY:Frisches Holzofenbrot
DESCRIPTION:
URL:https://kulturwerk-stadt.ch/index.php/event/frisches-holzofenbrot-22/
END:VEVENT
BEGIN:VEVENT
DTSTART;TZID=UTC:20261021T193000
DTEND;TZID=UTC:20261021T210000
DTSTAMP:20260424T084514
CREATED:20260109T085938Z
LAST-MODIFIED:20260109T090041Z
UID:1024-1792611000-1792616400@kulturwerk-stadt.ch
SUMMARY:"Aus dem Leben erzählt"
DESCRIPTION:
URL:https://kulturwerk-stadt.ch/index.php/event/aus-dem-leben-erzaehlt-4/
END:VEVENT
BEGIN:VEVENT
DTSTART;TZID=UTC:20261030T180000
DTEND;TZID=UTC:20261030T230000
DTSTAMP:20260424T084514
CREATED:20260109T090123Z
LAST-MODIFIED:20260109T090123Z
UID:1026-1793383200-1793401200@kulturwerk-stadt.ch
SUMMARY:Teamhock
DESCRIPTION:
URL:https://kulturwerk-stadt.ch/index.php/event/teamhock/
END:VEVENT
BEGIN:VEVENT
DTSTART;TZID=UTC:20261105T073000
DTEND;TZID=UTC:20261105T110000
DTSTAMP:20260424T084514
CREATED:20260109T090201Z
LAST-MODIFIED:20260109T090201Z
UID:1028-1793863800-1793876400@kulturwerk-stadt.ch
SUMMARY:Frisches Holzofenbrot
DESCRIPTION:
URL:https://kulturwerk-stadt.ch/index.php/event/frisches-holzofenbrot-23/
END:VEVENT
BEGIN:VEVENT
DTSTART;TZID=UTC:20261108T100000
DTEND;TZID=UTC:20261108T120000
DTSTAMP:20260424T084514
CREATED:20260109T090303Z
LAST-MODIFIED:20260109T090303Z
UID:1030-1794132000-1794139200@kulturwerk-stadt.ch
SUMMARY:Frühschoppenstammtisch
DESCRIPTION:
URL:https://kulturwerk-stadt.ch/index.php/event/fruehschoppenstammtisch-6/
END:VEVENT
BEGIN:VEVENT
DTSTART;TZID=UTC:20261122T100000
DTEND;TZID=UTC:20261122T170000
DTSTAMP:20260424T084514
CREATED:20260109T090343Z
LAST-MODIFIED:20260109T090343Z
UID:1032-1795341600-1795366800@kulturwerk-stadt.ch
SUMMARY:Adventsmarkt Sulz
DESCRIPTION:
URL:https://kulturwerk-stadt.ch/index.php/event/adventsmarkt-sulz-2/
END:VEVENT
BEGIN:VEVENT
DTSTART;TZID=UTC:20261203T073000
DTEND;TZID=UTC:20261203T110000
DTSTAMP:20260424T084514
CREATED:20260109T090424Z
LAST-MODIFIED:20260109T090424Z
UID:1034-1796283000-1796295600@kulturwerk-stadt.ch
SUMMARY:Frisches Holzofenbrot
DESCRIPTION:
URL:https://kulturwerk-stadt.ch/index.php/event/frisches-holzofenbrot-24/
END:VEVENT
BEGIN:VEVENT
DTSTART;TZID=UTC:20270312T200000
DTEND;TZID=UTC:20270312T220000
DTSTAMP:20260424T084514
CREATED:20260109T090526Z
LAST-MODIFIED:20260109T090526Z
UID:1036-1804881600-1804888800@kulturwerk-stadt.ch
SUMMARY:Generalversammlung
DESCRIPTION:
URL:https://kulturwerk-stadt.ch/index.php/event/generalversammlung/
END:VEVENT
END:VCALENDAR